BEGIN:VCALENDAR
VERSION:2.0
METHOD:PUBLISH
BEGIN:VEVENT
DTSTART;TZID=America/Chicago:20260402T170000
DTEND;TZID=America/Chicago:20260402T190000
TRANSP: OPAQUE
SEQUENCE:0
UID:
DTSTAMP:20260421T103701Z
SUMMARY:ETI Open House
DESCRIPTION:http://34.235.16.135/events/eti-open-house/
PRIORITY:1
CLASS:PUBLIC
BEGIN:VALARM
TRIGGER:-PT10080M
ACTION:DISPLAY
DESCRIPTION:Reminder
END:VALARM
END:VEVENT
BEGIN:VEVENT
DTSTART;TZID=America/Chicago:20260430T170000
DTEND;TZID=America/Chicago:20260430T190000
TRANSP: OPAQUE
SEQUENCE:0
UID:
DTSTAMP:20260421T103701Z
SUMMARY:ETI Open House
DESCRIPTION:http://34.235.16.135/events/eti-open-house/
PRIORITY:1
CLASS:PUBLIC
BEGIN:VALARM
TRIGGER:-PT10080M
ACTION:DISPLAY
DESCRIPTION:Reminder
END:VALARM
END:VEVENT
BEGIN:VEVENT
DTSTART;TZID=America/Chicago:20260514T170000
DTEND;TZID=America/Chicago:20260514T190000
TRANSP: OPAQUE
SEQUENCE:0
UID:
DTSTAMP:20260421T103701Z
SUMMARY:ETI Open House
DESCRIPTION:http://34.235.16.135/events/eti-open-house/
PRIORITY:1
CLASS:PUBLIC
BEGIN:VALARM
TRIGGER:-PT10080M
ACTION:DISPLAY
DESCRIPTION:Reminder
END:VALARM
END:VEVENT
BEGIN:VEVENT
DTSTART;TZID=America/Chicago:20260618T170000
DTEND;TZID=America/Chicago:20260618T190000
TRANSP: OPAQUE
SEQUENCE:0
UID:
DTSTAMP:20260421T103701Z
SUMMARY:ETI Open House
DESCRIPTION:http://34.235.16.135/events/eti-open-house/
PRIORITY:1
CLASS:PUBLIC
BEGIN:VALARM
TRIGGER:-PT10080M
ACTION:DISPLAY
DESCRIPTION:Reminder
END:VALARM
END:VEVENT
BEGIN:VEVENT
DTSTART;TZID=America/Chicago:20260723T170000
DTEND;TZID=America/Chicago:20260723T190000
TRANSP: OPAQUE
SEQUENCE:0
UID:
DTSTAMP:20260421T103701Z
SUMMARY:ETI Open House
DESCRIPTION:http://34.235.16.135/events/eti-open-house/
PRIORITY:1
CLASS:PUBLIC
BEGIN:VALARM
TRIGGER:-PT10080M
ACTION:DISPLAY
DESCRIPTION:Reminder
END:VALARM
END:VEVENT
BEGIN:VEVENT
DTSTART;TZID=America/Chicago:20260827T170000
DTEND;TZID=America/Chicago:20260827T190000
TRANSP: OPAQUE
SEQUENCE:0
UID:
DTSTAMP:20260421T103701Z
SUMMARY:ETI Open House
DESCRIPTION:http://34.235.16.135/events/eti-open-house/
PRIORITY:1
CLASS:PUBLIC
BEGIN:VALARM
TRIGGER:-PT10080M
ACTION:DISPLAY
DESCRIPTION:Reminder
END:VALARM
END:VEVENT
BEGIN:VEVENT
DTSTART;TZID=America/Chicago:20260917T170000
DTEND;TZID=America/Chicago:20260917T190000
TRANSP: OPAQUE
SEQUENCE:0
UID:
DTSTAMP:20260421T103701Z
SUMMARY:ETI Open House
DESCRIPTION:http://34.235.16.135/events/eti-open-house/
PRIORITY:1
CLASS:PUBLIC
BEGIN:VALARM
TRIGGER:-PT10080M
ACTION:DISPLAY
DESCRIPTION:Reminder
END:VALARM
END:VEVENT
BEGIN:VEVENT
DTSTART;TZID=America/Chicago:20261022T170000
DTEND;TZID=America/Chicago:20261022T190000
TRANSP: OPAQUE
SEQUENCE:0
UID:
DTSTAMP:20260421T103701Z
SUMMARY:ETI Open House
DESCRIPTION:http://34.235.16.135/events/eti-open-house/
PRIORITY:1
CLASS:PUBLIC
BEGIN:VALARM
TRIGGER:-PT10080M
ACTION:DISPLAY
DESCRIPTION:Reminder
END:VALARM
END:VEVENT
BEGIN:VEVENT
DTSTART;TZID=America/Chicago:20261112T170000
DTEND;TZID=America/Chicago:20261112T190000
TRANSP: OPAQUE
SEQUENCE:0
UID:
DTSTAMP:20260421T103701Z
SUMMARY:ETI Open House
DESCRIPTION:http://34.235.16.135/events/eti-open-house/
PRIORITY:1
CLASS:PUBLIC
BEGIN:VALARM
TRIGGER:-PT10080M
ACTION:DISPLAY
DESCRIPTION:Reminder
END:VALARM
END:VEVENT
END:VCALENDAR
