BEGIN:VCALENDAR
VERSION:2.0
METHOD:PUBLISH
BEGIN:VEVENT
DTSTART;TZID=America/Chicago:20260513T120000
DTEND;TZID=America/Chicago:20260513T140000
TRANSP: OPAQUE
SEQUENCE:0
UID:
DTSTAMP:20260423T081609Z
SUMMARY:Counselor Lunch &#038; Learn: Exploring Career Pathways in the Skilled Trades
DESCRIPTION:http://34.235.16.135/events/counselor-lunch-learn-exploring-career-pathways-in-the-skilled-trades/
PRIORITY:1
CLASS:PUBLIC
BEGIN:VALARM
TRIGGER:-PT10080M
ACTION:DISPLAY
DESCRIPTION:Reminder
END:VALARM
END:VEVENT
END:VCALENDAR
